BEGIN:VCALENDAR
VERSION:2.0
METHOD:PUBLISH
X-WR-CALNAME:Leutenbach _2026-05-04
PRODID:-//www.se-winnenden.de//iCal
X-WR-CALDESC:Jachorusprobe
X-WR-TIMEZONE:Europe/Berlin
CALSCALE:GREGORIAN
BEGIN:VEVENT
UID:SEWSL-Leutenbach -l15650477
DESCRIPTION:Jachorusprobe
SUMMARY:Jachorusprobe
DTSTART:20260504T190000
DTEND:20260504T210000
DTSTAMP:20260424T000000Z
LOCATION:Gemein&shyde&shy;saal St. Jakobus, Leutenbach
TRANSP:TRANSPARENT
BEGIN:VALARM
TRIGGER:-PT0H30M
ACTION:DISPLAY
SUMMARY:Jachorusprobe
END:VALARM
END:VEVENT
END:VCALENDAR