BEGIN:VCALENDAR
VERSION:2.0
METHOD:PUBLISH
X-WR-CALNAME:Leutenbach _2026-04-26
PRODID:-//www.se-winnenden.de//iCal
X-WR-CALDESC:Ministunde und Probe
X-WR-TIMEZONE:Europe/Berlin
CALSCALE:GREGORIAN
BEGIN:VEVENT
UID:SEWSL-Leutenbach -l15650463
DESCRIPTION:Ministunde und Probe
SUMMARY:Ministunde und Probe
DTSTART:20260426T120000
DTEND:20260426T130000
DTSTAMP:20260424T000000Z
LOCATION:Gemein&shyde&shy;saal St. Jakobus, Leutenbach
TRANSP:TRANSPARENT
BEGIN:VALARM
TRIGGER:-PT0H30M
ACTION:DISPLAY
SUMMARY:Ministunde und Probe
END:VALARM
END:VEVENT
END:VCALENDAR